BEGIN:VCALENDAR
VERSION:2.0
PRODID:-//Yogacharya Dhakaram - ECPv6.15.20//NONSGML v1.0//EN
CALSCALE:GREGORIAN
METHOD:PUBLISH
X-ORIGINAL-URL:https://dhakaram.com
X-WR-CALDESC:Events for Yogacharya Dhakaram
REFRESH-INTERVAL;VALUE=DURATION:PT1H
X-Robots-Tag:noindex
X-PUBLISHED-TTL:PT1H
BEGIN:VTIMEZONE
TZID:Asia/Kolkata
BEGIN:STANDARD
TZOFFSETFROM:+0530
TZOFFSETTO:+0530
TZNAME:IST
DTSTART:20250101T000000
END:STANDARD
END:VTIMEZONE
BEGIN:VEVENT
DTSTART;TZID=Asia/Kolkata:20260128T080000
DTEND;TZID=Asia/Kolkata:20260202T200000
DTSTAMP:20260426T040520
CREATED:20251014T031009Z
LAST-MODIFIED:20251014T031009Z
UID:7374-1769587200-1770062400@dhakaram.com
SUMMARY:Advanced Therapy Medical Yoga Crash Course
DESCRIPTION:Advance Yoga Therapy Crash Course & Annual Meet\nHosted by Yogapeace Sansthan \nJoin us for a transformative crash course and annual meet\, exclusively designed for master trainers who have completed the yoga therapy course by Yogacharya Dhakaram Ji and Pune’s esteemed therapy expert\, Acharya Pangare. \nCourse Highlights:\n– Dates: 28 Jan 2026 to 02 Feb 2026\n– Timings: 8:00 AM to 8:00 PM\n– Eligibility: Open to students who have completed yoga therapy courses.\n– Course Fee: ₹25\,000/- (Includes breakfast\, lunch\, dinner\, tea\, and 2 complimentary T-shirts). \nWhy Attend?\n✔ Refine and enhance your therapy skills with expert guidance.\n✔ Network with fellow master trainers and renowned therapy specialists.\n✔ Immerse yourself in a holistic learning experience. \nRegister Now!\n📞 Call 7737371525 to reserve your spot today. \nLimited seats available – don’t miss this chance to elevate your expertise!
URL:https://dhakaram.com/event/advanced-therapy-medical-yoga-crash-course-2/
LOCATION:YogaPeace Sansthan\, YogaPeace\, Krishna Kripa 1\, Subhash Nagar\, Shastri Nagar\,\, Jaipur\, Rajasthan\, 302016\, India
CATEGORIES:YogaPeace Teacher's Training Courses
ATTACH;FMTTYPE=image/jpeg:https://dhakaram.com/wp-content/uploads/Crash-Course-28-Jan-2026-scaled.jpg
ORGANIZER;CN="YogaPeace Sansthan":MAILTO:yogapeacejaipur@gmail.com
END:VEVENT
BEGIN:VEVENT
DTSTART;TZID=Asia/Kolkata:20260201T030000
DTEND;TZID=Asia/Kolkata:20260201T170000
DTSTAMP:20260426T040520
CREATED:20260109T054917Z
LAST-MODIFIED:20260109T054917Z
UID:7894-1769914800-1769965200@dhakaram.com
SUMMARY:AU Jaipur Marathon Carnival
DESCRIPTION:
URL:https://dhakaram.com/event/au-jaipur-marathon-carnival-2026/
LOCATION:Albert Hall Museum\, Jaipur\, Albert Hall Museum\, Ram Niwas Garden\, Ashok Nagar\, Jaipur\, Rajasthan\, 302007\, India
ATTACH;FMTTYPE=image/jpeg:https://dhakaram.com/wp-content/uploads/Marathon_01-Feb-2026-scaled.jpg
ORGANIZER;CN="YogaPeace Sansthan":MAILTO:yogapeacejaipur@gmail.com
END:VEVENT
BEGIN:VEVENT
DTSTART;TZID=Asia/Kolkata:20260201T100000
DTEND;TZID=Asia/Kolkata:20260201T160000
DTSTAMP:20260426T040520
CREATED:20260119T073742Z
LAST-MODIFIED:20260119T075021Z
UID:7915-1769940000-1769961600@dhakaram.com
SUMMARY:Blood Donation Camp
DESCRIPTION:🩸 BLOOD DONATION CAMP – A NOBLE STEP TOWARDS SAVING LIVES ❤️ \nAkhil Bhartiya Samayik Swadhyaye Sangh\, Yogapeace Sansthan & Navlakha Pariwar\ncordially invite you to be a part of this life-saving mission\, organized\nin the loving memory of Late Shree Makare Sapkota & Late Shree Shubh Chand Navlakha 🙏 \n📅 Date: 1st February\n⏰ Time: 10:00 AM – 04:00 PM\n📍 Venue: Heera Panna Apartment\, M.D. Circle\, Jaipur \n✨ Once a blood donor\, always a lifesaver ✨\nYour single blood donation can give someone a second chance at life. \n👉 To participate\, please register using the Google Form link shared below :- https://forms.gle/itR66otvxKAJKmjD9 \n👉 Kindly share this message and the registration link with your friends\, family\, and groups to help us reach more donors. \n📞 For more details\, contact:\n7737371525 | 9829333233 \n🔴 Let your blood flow for someone’s tomorrow. Join us and make a difference! \n#BloodDonationCamp #DonateBloodSaveLives #BeAHero #BloodDonor\n#LifeSaver #JaipurEvents #SocialService #HumanityFirst #GiveBlood #SaveLife
URL:https://dhakaram.com/event/blood-donation-camp-5/
LOCATION:Heera Panna Apartment\, Jaipur\, Heera Panna Apartment\, 6\, Moti Doongri Rd\, Tilak Nagar\, Jaipur\, Rajasthan\, India
CATEGORIES:Blood Donation Camp
ATTACH;FMTTYPE=image/jpeg:https://dhakaram.com/wp-content/uploads/01-Feb-2026.jpeg
ORGANIZER;CN="YogaPeace Sansthan":MAILTO:yogapeacejaipur@gmail.com
END:VEVENT
BEGIN:VEVENT
DTSTART;TZID=Asia/Kolkata:20260201T100000
DTEND;TZID=Asia/Kolkata:20260201T160000
DTSTAMP:20260426T040520
CREATED:20260131T023837Z
LAST-MODIFIED:20260131T023951Z
UID:7923-1769940000-1769961600@dhakaram.com
SUMMARY:Blood Donation Camp
DESCRIPTION:🩸 BLOOD DONATION CAMP – A NOBLE STEP TOWARDS SAVING LIVES ❤️ \nAkhil Bhartiya Samayik Swadhyaye Sangh\, Yogapeace Sansthan & Navlakha Pariwar\ncordially invite you to be a part of this life-saving mission\, organized\nin the loving memory of Late Shree Makare Sapkota & Late Shree Shubh Chand Navlakha 🙏 \n📅 Date: 1st February\n⏰ Time: 10:00 AM – 04:00 PM\n📍 Venue: Heera Panna Apartment\, M.D. Circle\, Jaipur\nLocation https://maps.app.goo.gl/JFdQLE252zph5hsf7?g_st=ic \n✨ Once a blood donor\, always a lifesaver ✨\nYour single blood donation can give someone a second chance at life. \n👉 To participate\, please register using the Google Form link shared below :- https://forms.gle/itR66otvxKAJKmjD9 \n👉 Kindly share this message and the registration link with your friends\, family\, and groups to help us reach more donors. \n📞 For more details\, contact:\n7737371525 | 9829333233 \n🔴 Let your blood flow for someone’s tomorrow. Join us and make a difference! \n#BloodDonationCamp #DonateBloodSaveLives #BeAHero #BloodDonor\n#LifeSaver #JaipurEv
URL:https://dhakaram.com/event/blood-donation-camp-6/
LOCATION:Heera Panna Apartment\, Jaipur\, Heera Panna Apartment\, 6\, Moti Doongri Rd\, Tilak Nagar\, Jaipur\, Rajasthan\, India
CATEGORIES:Blood Donation Camp
ATTACH;FMTTYPE=image/jpeg:https://dhakaram.com/wp-content/uploads/1-Feb-2026.jpeg
ORGANIZER;CN="YogaPeace Sansthan":MAILTO:yogapeacejaipur@gmail.com
END:VEVENT
END:VCALENDAR