BEGIN:VCALENDAR
VERSION:2.0
PRODID:-//Yogacharya Dhakaram - ECPv6.15.20//NONSGML v1.0//EN
CALSCALE:GREGORIAN
METHOD:PUBLISH
X-WR-CALNAME:Yogacharya Dhakaram
X-ORIGINAL-URL:https://dhakaram.com
X-WR-CALDESC:Events for Yogacharya Dhakaram
REFRESH-INTERVAL;VALUE=DURATION:PT1H
X-Robots-Tag:noindex
X-PUBLISHED-TTL:PT1H
BEGIN:VTIMEZONE
TZID:Asia/Kolkata
BEGIN:STANDARD
TZOFFSETFROM:+0530
TZOFFSETTO:+0530
TZNAME:IST
DTSTART:20240101T000000
END:STANDARD
END:VTIMEZONE
BEGIN:VEVENT
DTSTART;TZID=Asia/Kolkata:20250901T060000
DTEND;TZID=Asia/Kolkata:20250901T071500
DTSTAMP:20260424T180233
CREATED:20250826T052056Z
LAST-MODIFIED:20250826T084507Z
UID:7008-1756706400-1756710900@dhakaram.com
SUMMARY:Free Anandam Shivir
DESCRIPTION:
URL:https://dhakaram.com/event/anandam-shivir/
LOCATION:YogaPeace Sansthan\, YogaPeace\, Krishna Kripa 1\, Subhash Nagar\, Shastri Nagar\,\, Jaipur\, Rajasthan\, 302016\, India
CATEGORIES:Anandam
ATTACH;FMTTYPE=image/jpeg:https://dhakaram.com/wp-content/uploads/Anandam-Shivir_01-Sep-2025_1-5.jpg
ORGANIZER;CN="YogaPeace Sansthan":MAILTO:yogapeacejaipur@gmail.com
END:VEVENT
BEGIN:VEVENT
DTSTART;TZID=Asia/Kolkata:20250905T190000
DTEND;TZID=Asia/Kolkata:20250908T070000
DTSTAMP:20260424T180233
CREATED:20250726T105448Z
LAST-MODIFIED:20250806T051421Z
UID:6813-1757098800-1757314800@dhakaram.com
SUMMARY:YogaPeace Anandam Yatra - Amritsar & Chandigarh
DESCRIPTION:🕉️ योगापीस संस्थान – आनंदम यात्रा\nमार्ग: जयपुर – अमृतसर – चंडीगढ़ – जयपुरतिथि: 5 से 8 सितंबर\, 2025योगदान राशि: ₹7\,500 प्रति व्यक्ति \n\n🗓️ यात्रा विवरण\n📅 दिन 1 – 5 सितंबर 2025 (शुक्रवार)\n\nप्रस्थान समय: शाम 5:00 बजे\nस्थान: योगापीस संस्थान\, सुभाष नगर\, जयपुर\nयात्रा का माध्यम: वॉल्वो एसी टूरिस्ट बस\nमहत्वपूर्ण सूचना: कृपया अपने साथ पैक किया हुआ रात्रि भोजन (प्रसादी) अवश्य लाएँ\, भोजन प्रसादी हम सब मिल बाँट कर ग्रहण करेंगे।\n\n\n📅 दिन 2 – 6 सितंबर 2025 (शनिवार)\n\nप्रवेश: सुबह लगभग 7:00 बजे अमृतसर पहुंचना\nहोटल में चेक-इन एवं नाश्ता\nप्रातः भ्रमण:\n\nजलियांवाला बाग\nश्री दुर्गियाना मंदिर\n\n\nदोपहर:\n\nदोपहर का भोजन\nउसके बाद वाघा बॉर्डर पर शाम की परेड (रेट्रीट सेरेमनी) का दर्शन\n\n\nसायंकाल:\n\nस्वर्ण मंदिर (गोल्डन टेंपल) की यात्रा\nलंगर प्रसाद में सहभागिता\n\n\nरात्रि विश्राम: अमृतसर में\n\n\n📅 दिन 3 – 7 सितंबर 2025 (रविवार)\n\nप्रातः 8:00 बजे नाश्ता के पश्चात:\n\nअमृतसर से प्रस्थान\nमार्ग में चंडीगढ़ भ्रमण (समय की उपलब्धता अनुसार)\n\n\nरात्रि में जयपुर आगमन\n\n\n✅ शामिल सुविधाएँ\n\nएसी बस यात्रा\nआरामदायक होटल में ठहराव\nनाश्ता व स्वर्ण मंदिर में लंगर\nप्रमुख धार्मिक व ऐतिहासिक स्थलों का भ्रमण\n\n\n💳 योगदान विवरण\nयोगदान राशि: ₹7\,500 प्रति व्यक्ति \n📩 भुगतान करने के बाद कृपया प्रतिभागी का नाम\, फ़ोन नंबर\, आयु और भुगतान विवरण व्हाट्सएप के माध्यम से +91 – 77 3737 1525 पर साझा करें। \n📲 UPI से भुगतान करें(नीचे दिया गया QR कोड स्कैन करें) \n🏦 बैंक ट्रांसफर विवरण \n\nबैंक: स्टेट बैंक ऑफ इंडिया\nखाताधारक का नाम: योगापीस संस्थान\nखाता संख्या: 64192042580\nIFSC कोड: SBIN0030272\n\n\n📞 अधिक जानकारी एवं पंजीकरण हेतु\nकॉल/व्हाट्सएप करें: +91 – 77 3737 1525🌐 वेबसाइट: www.yogapeace.org
URL:https://dhakaram.com/event/yogapeace-anandam-yatra-amritsar-chandigarh/
LOCATION:Amritsar\, Punjab\, Amritsar\, Punjab\, 143001\, India
CATEGORIES:Anandam
ATTACH;FMTTYPE=image/jpeg:https://dhakaram.com/wp-content/uploads/YogaPeace-Anandam-Yatra-Sep-2025_3.1.jpg
ORGANIZER;CN="YogaPeace Sansthan":MAILTO:yogapeacejaipur@gmail.com
END:VEVENT
BEGIN:VEVENT
DTSTART;TZID=Asia/Kolkata:20250907T080000
DTEND;TZID=Asia/Kolkata:20250907T170000
DTSTAMP:20260424T180233
CREATED:20250726T111323Z
LAST-MODIFIED:20250726T111323Z
UID:6820-1757232000-1757264400@dhakaram.com
SUMMARY:Yogacharya Dhakaram @ Chandigarh
DESCRIPTION:
URL:https://dhakaram.com/event/yogacharya-dhakaram-chandigarh/
LOCATION:Chandigarh\, Chandigarh\, 160001\, India
CATEGORIES:Anandam,Social
ATTACH;FMTTYPE=image/jpeg:https://dhakaram.com/wp-content/uploads/Chandigarh_7-Sep-2025.jpg
ORGANIZER;CN="YogaPeace Sansthan":MAILTO:yogapeacejaipur@gmail.com
END:VEVENT
BEGIN:VEVENT
DTSTART;TZID=Asia/Kolkata:20250927T190000
DTEND;TZID=Asia/Kolkata:20250927T210000
DTSTAMP:20260424T180234
CREATED:20250925T101552Z
LAST-MODIFIED:20250925T102517Z
UID:7319-1758999600-1759006800@dhakaram.com
SUMMARY:Wisdom Talk by Yogacharya Dhakaram
DESCRIPTION:
URL:https://dhakaram.com/event/wisdom-talk-by-yogacharya-dhakaram/
LOCATION:Golden Tulip Jaipur\, Golden Tulip Jaipur\, Mirza Ismail Rd\, opposite GPO\, behind Jangid Bhawan\, C Scheme\, Ashok Nagar\, Jaipur\, Rajasthan\, 302001\, India
CATEGORIES:Anandam
ATTACH;FMTTYPE=image/jpeg:https://dhakaram.com/wp-content/uploads/27-Sep-2025_sd.jpg
END:VEVENT
BEGIN:VEVENT
DTSTART;TZID=Asia/Kolkata:20250928T060000
DTEND;TZID=Asia/Kolkata:20250928T080000
DTSTAMP:20260424T180234
CREATED:20250917T024547Z
LAST-MODIFIED:20250917T024547Z
UID:7277-1759039200-1759046400@dhakaram.com
SUMMARY:Anandam Yog Shivir
DESCRIPTION:
URL:https://dhakaram.com/event/anandam-yog-shivir-2/
LOCATION:Shanti Jeevan\, Bani Park\, Jaipur\, Shree Jangleshwar Mahadev Mandir\, Kanti Chandra Rd\, Kanti Nagar\,Bani Park\, Jaipur\, Rajasthan\, 302016\, India
CATEGORIES:Anandam
ATTACH;FMTTYPE=image/jpeg:https://dhakaram.com/wp-content/uploads/28-Sep-2025_morning-scaled.jpg
END:VEVENT
END:VCALENDAR