BEGIN:VCALENDAR
VERSION:2.0
PRODID:-//Yogacharya Dhakaram - ECPv6.15.20//NONSGML v1.0//EN
CALSCALE:GREGORIAN
METHOD:PUBLISH
X-WR-CALNAME:Yogacharya Dhakaram
X-ORIGINAL-URL:https://dhakaram.com
X-WR-CALDESC:Events for Yogacharya Dhakaram
REFRESH-INTERVAL;VALUE=DURATION:PT1H
X-Robots-Tag:noindex
X-PUBLISHED-TTL:PT1H
BEGIN:VTIMEZONE
TZID:Asia/Kolkata
BEGIN:STANDARD
TZOFFSETFROM:+0530
TZOFFSETTO:+0530
TZNAME:IST
DTSTART:20240101T000000
END:STANDARD
END:VTIMEZONE
BEGIN:VEVENT
DTSTART;TZID=Asia/Kolkata:20251026T070000
DTEND;TZID=Asia/Kolkata:20251026T090000
DTSTAMP:20260424T050252
CREATED:20251010T030556Z
LAST-MODIFIED:20251017T085044Z
UID:7367-1761462000-1761469200@dhakaram.com
SUMMARY:Anandam Shivir
DESCRIPTION:
URL:https://dhakaram.com/event/anandam-shivir-2/
LOCATION:Mama ki Dhani\, Sirsi Rd\, Jaipur\, Mama ki Dhani\, Sirsi Rd\, Kanakpura\, Jaipur\, Rajasthan\, 302041\, India
CATEGORIES:Anandam
ATTACH;FMTTYPE=image/jpeg:https://dhakaram.com/wp-content/uploads/Anandam-Shivir_25-26-Oct-2025_v2.jpg
ORGANIZER;CN="YogaPeace Sansthan":MAILTO:yogapeacejaipur@gmail.com
END:VEVENT
END:VCALENDAR