BEGIN:VCALENDAR
VERSION:2.0
PRODID:-//Yogacharya Dhakaram - ECPv6.15.20//NONSGML v1.0//EN
CALSCALE:GREGORIAN
METHOD:PUBLISH
X-ORIGINAL-URL:https://dhakaram.com
X-WR-CALDESC:Events for Yogacharya Dhakaram
REFRESH-INTERVAL;VALUE=DURATION:PT1H
X-Robots-Tag:noindex
X-PUBLISHED-TTL:PT1H
BEGIN:VTIMEZONE
TZID:Asia/Kolkata
BEGIN:STANDARD
TZOFFSETFROM:+0530
TZOFFSETTO:+0530
TZNAME:IST
DTSTART:20240101T000000
END:STANDARD
END:VTIMEZONE
BEGIN:VEVENT
DTSTART;TZID=Asia/Kolkata:20250613T113000
DTEND;TZID=Asia/Kolkata:20250613T133000
DTSTAMP:20260425T074739
CREATED:20250612T030848Z
LAST-MODIFIED:20250612T030848Z
UID:6611-1749814200-1749821400@dhakaram.com
SUMMARY:Niramayam\, 6-Days Yoga Workshop
DESCRIPTION:
URL:https://dhakaram.com/event/niramayam-6-days-yoga-workshop/
LOCATION:Mohanlal Sukhadia University (MLSU)\, Udaipur\, Udaipur\, India
CATEGORIES:General Yoga Camp,Social
ATTACH;FMTTYPE=image/jpeg:https://dhakaram.com/wp-content/uploads/13-Jun-2025.jpg
ORGANIZER;CN="YogaPeace Sansthan":MAILTO:yogapeacejaipur@gmail.com
END:VEVENT
BEGIN:VEVENT
DTSTART;TZID=Asia/Kolkata:20250615T060000
DTEND;TZID=Asia/Kolkata:20250615T080000
DTSTAMP:20260425T074739
CREATED:20250609T105517Z
LAST-MODIFIED:20250609T105517Z
UID:6570-1749967200-1749974400@dhakaram.com
SUMMARY:Yogscape - 7 Day Yoga Celebration @ Patrika Gate\, Jaipur
DESCRIPTION:
URL:https://dhakaram.com/event/yogscape-7-day-yoga-celebration-patrika-gate-jaipur/
LOCATION:Patrika Gate\, Jawahar Circle\, Malviya Nagar\, Jaipur\, Patrika Gate\, JLN Road\, Malviya Nagar\, Jaipur\, Rajasthan\, 302017\, India
CATEGORIES:General Yoga Camp
ATTACH;FMTTYPE=image/jpeg:https://dhakaram.com/wp-content/uploads/15-16-Jun-2025.jpg
END:VEVENT
BEGIN:VEVENT
DTSTART;TZID=Asia/Kolkata:20250615T060000
DTEND;TZID=Asia/Kolkata:20250615T080000
DTSTAMP:20260425T074739
CREATED:20250609T105517Z
LAST-MODIFIED:20250609T105517Z
UID:6570-1749967200-1749974400@dhakaram.com
SUMMARY:Yogscape - 7 Day Yoga Celebration @ Patrika Gate\, Jaipur
DESCRIPTION:
URL:https://dhakaram.com/event/yogscape-7-day-yoga-celebration-patrika-gate-jaipur/
LOCATION:Patrika Gate\, Jawahar Circle\, Malviya Nagar\, Jaipur\, Patrika Gate\, JLN Road\, Malviya Nagar\, Jaipur\, Rajasthan\, 302017\, India
CATEGORIES:General Yoga Camp
ATTACH;FMTTYPE=image/jpeg:https://dhakaram.com/wp-content/uploads/15-16-Jun-2025.jpg
END:VEVENT
BEGIN:VEVENT
DTSTART;TZID=Asia/Kolkata:20250619T060000
DTEND;TZID=Asia/Kolkata:20250619T070000
DTSTAMP:20260425T074739
CREATED:20250620T044527Z
LAST-MODIFIED:20250620T044527Z
UID:6657-1750312800-1750316400@dhakaram.com
SUMMARY:Army Yoga Camp\, Niwaru Military Station\, Jaipur
DESCRIPTION:
URL:https://dhakaram.com/event/army-yoga-camp-niwaru-military-station-jaipur/
LOCATION:Niwaru Military Station\, Niwaru Military Station\, Jaipur\, Rajasthan\, 302012\, India
CATEGORIES:General Yoga Camp
ATTACH;FMTTYPE=image/jpeg:https://dhakaram.com/wp-content/uploads/Army_Yoga_Camp_19-Jun-2025_v1.jpg
ORGANIZER;CN="YogaPeace Sansthan":MAILTO:yogapeacejaipur@gmail.com
END:VEVENT
BEGIN:VEVENT
DTSTART;TZID=Asia/Kolkata:20250620T080000
DTEND;TZID=Asia/Kolkata:20250622T170000
DTSTAMP:20260425T074739
CREATED:20250512T031851Z
LAST-MODIFIED:20250521T095940Z
UID:6447-1750406400-1750611600@dhakaram.com
SUMMARY:Yogacharya Dhakaram in Dubai
DESCRIPTION:
URL:https://dhakaram.com/event/yogacharya-dhakaram-in-dubai/
LOCATION:Dubai\, United Arab Emirates\, Dubai\, United Arab Emirates
CATEGORIES:General Yoga Camp,Miscellaneous
ATTACH;FMTTYPE=image/jpeg:https://dhakaram.com/wp-content/uploads/Dubai_20-22-June-2025_v1.2.jpg
ORGANIZER;CN="YogaPeace Sansthan":MAILTO:yogapeacejaipur@gmail.com
END:VEVENT
BEGIN:VEVENT
DTSTART;TZID=Asia/Kolkata:20250620T173000
DTEND;TZID=Asia/Kolkata:20250620T183000
DTSTAMP:20260425T074739
CREATED:20250620T033558Z
LAST-MODIFIED:20250620T061837Z
UID:6651-1750440600-1750444200@dhakaram.com
SUMMARY:Corporate Yoga @ Mangal Electrical Industries\, Sikar
DESCRIPTION:
URL:https://dhakaram.com/event/corporate-yoga-mangal-electrical-industries-sikar/
LOCATION:Mangal Electrical Industries Limited\, Sikar\, Mangal Electrical Industries\, E-40 to E-46A\, Shree Khatu Shyam Ji Industrial Area\, Reengus\, Sikar\, Rajasthan\, 332404\, India
CATEGORIES:General Yoga Camp
ATTACH;FMTTYPE=image/jpeg:https://dhakaram.com/wp-content/uploads/Corporate-Yoga_Mangal_21-Jun-2025_Sikar-1.jpg
ORGANIZER;CN="YogaPeace Sansthan":MAILTO:yogapeacejaipur@gmail.com
END:VEVENT
BEGIN:VEVENT
DTSTART;TZID=Asia/Kolkata:20250621T060000
DTEND;TZID=Asia/Kolkata:20250621T070000
DTSTAMP:20260425T074739
CREATED:20250527T075730Z
LAST-MODIFIED:20250616T105812Z
UID:6490-1750485600-1750489200@dhakaram.com
SUMMARY:International Yoga Day\, 2025 @ Gandhi Vatika\, Jaipur
DESCRIPTION:हरिओम्🙏 प्रिय बंधुओं\, \nअंतर्राष्ट्रीय योग दिवस के पावन अवसर पर आप एवं आपके परिवार सहित सभी मित्रों का हृदयपूर्वक स्वागत है। \nआइए\, इस विशेष दिन पर सामूहिक योगाभ्यास के माध्यम से शारीरिक\, मानसिक एवं आध्यात्मिक उत्थान की ओर एक कदम बढ़ाएँ। अनुभवी योगाचार्यों के मार्गदर्शन में शांति\, स्वास्थ्य और संतुलन का अनुभव करें। \n👉 कृपया नीचे दिए गए लिंक पर क्लिक करके अपना पंजीकरण अवश्य करें।आपकी सहभागिता हमारे लिए गौरव की बात होगी। \nhttps://docs.google.com/forms/d/e/1FAIpQLSeiA-yJux6stV2HE498KqcFY7OdHVAl_x0YfyQAXQkPJVJAnQ/viewform?usp=sharing&ouid=109243451574104076806 \nसप्रेम –योगापीस संस्थान परिवार
URL:https://dhakaram.com/event/international-yoga-day-2025-gandhi-vatika-jaipur/
LOCATION:Gandhi Vatika\, Gate No. 5\, Central Park\, Jaipur\, Gandhi Vatika\, Gate No. 5\, Central Park\,\, Jaipur\, Rajasthan\, 302007\, India
CATEGORIES:General Yoga Camp
ATTACH;FMTTYPE=image/jpeg:https://dhakaram.com/wp-content/uploads/Yoga-Day-21-Jun-2025_v2.7_c-scaled.jpg
END:VEVENT
BEGIN:VEVENT
DTSTART;TZID=Asia/Kolkata:20250621T060000
DTEND;TZID=Asia/Kolkata:20250621T070000
DTSTAMP:20260425T074739
CREATED:20250619T055320Z
LAST-MODIFIED:20250619T074518Z
UID:6628-1750485600-1750489200@dhakaram.com
SUMMARY:International Yoga Day Celebration\, Govt. Sr. Sec School\, Kanwapura\, Sikar
DESCRIPTION:
URL:https://dhakaram.com/event/international-yoga-day-celebration-govt-sr-sec-school-kanwapura-sikar/
LOCATION:Govt. Sr. Sec School\, Kanwapura\, Sikar\, Govt. Sr. Sec School\, Kanwapura\, Sikar\, Sikar\, Rajasthan\, 332001\, India
CATEGORIES:General Yoga Camp
ATTACH;FMTTYPE=image/jpeg:https://dhakaram.com/wp-content/uploads/Yoga-Day-21-Jun-2025_Sikar_v1.3-scaled.jpg
ORGANIZER;CN="YogaPeace Sansthan":MAILTO:yogapeacejaipur@gmail.com
END:VEVENT
BEGIN:VEVENT
DTSTART;TZID=Asia/Kolkata:20250621T100000
DTEND;TZID=Asia/Kolkata:20250621T110000
DTSTAMP:20260425T074739
CREATED:20250619T055951Z
LAST-MODIFIED:20250620T022342Z
UID:6634-1750500000-1750503600@dhakaram.com
SUMMARY:Anandam for Corporate @ Dynamic Cables Limited\, Jaipur
DESCRIPTION:
URL:https://dhakaram.com/event/anandam-for-corporate-dynamic-cables-limited-jaipur/
LOCATION:Dynamic Cables Limited\, VKIA\, Jaipur\, Dynamic Cables Limited\, F-260\, Rd Number 13\, Vishwakarma Colony\, Vishwakarma Industrial Area\, Jaipur\, Rajasthan\, 302013\, India
CATEGORIES:General Yoga Camp
ATTACH;FMTTYPE=image/jpeg:https://dhakaram.com/wp-content/uploads/Corporate-Yoga_21-Jun-2025_v1.4.jpg
ORGANIZER;CN="YogaPeace Sansthan":MAILTO:yogapeacejaipur@gmail.com
END:VEVENT
BEGIN:VEVENT
DTSTART;TZID=Asia/Kolkata:20250621T173000
DTEND;TZID=Asia/Kolkata:20250621T183000
DTSTAMP:20260425T074739
CREATED:20250620T033434Z
LAST-MODIFIED:20250620T033434Z
UID:6646-1750527000-1750530600@dhakaram.com
SUMMARY:Anandam for Corporate @ Mangal Electrical Industries Ltd.\, Jaipur
DESCRIPTION:
URL:https://dhakaram.com/event/anandam-for-corporate-mangal-electrical-industries-ltd-jaipur/
LOCATION:Mangal Electrical Industries Limited\, Jaipur\, Mangal Electrical Industries Limited\, C- 61 1C\, Rd Number - 1D\, Vishwakarma Industrial Area\, Jaipur\, Rajasthan\, 302013\, India
CATEGORIES:General Yoga Camp
ATTACH;FMTTYPE=image/jpeg:https://dhakaram.com/wp-content/uploads/Corporate-Yoga_Mangal_21-Jun-2025_VKIA_Jaipur.jpg
ORGANIZER;CN="YogaPeace Sansthan":MAILTO:yogapeacejaipur@gmail.com
END:VEVENT
END:VCALENDAR