BEGIN:VCALENDAR
VERSION:2.0
PRODID:-//Yogacharya Dhakaram - ECPv6.15.20//NONSGML v1.0//EN
CALSCALE:GREGORIAN
METHOD:PUBLISH
X-ORIGINAL-URL:https://dhakaram.com
X-WR-CALDESC:Events for Yogacharya Dhakaram
REFRESH-INTERVAL;VALUE=DURATION:PT1H
X-Robots-Tag:noindex
X-PUBLISHED-TTL:PT1H
BEGIN:VTIMEZONE
TZID:Asia/Kolkata
BEGIN:STANDARD
TZOFFSETFROM:+0530
TZOFFSETTO:+0530
TZNAME:IST
DTSTART:20250101T000000
END:STANDARD
END:VTIMEZONE
BEGIN:VEVENT
DTSTART;TZID=Asia/Kolkata:20260224T100000
DTEND;TZID=Asia/Kolkata:20260224T170000
DTSTAMP:20260421T200407
CREATED:20260213T031334Z
LAST-MODIFIED:20260213T031334Z
UID:7946-1771927200-1771952400@dhakaram.com
SUMMARY:Yogacharya Dhakaram in Jhinjholi Haryana
DESCRIPTION:
URL:https://dhakaram.com/event/yogacharya-dhakaram-in-jhinjholi-haryana/
LOCATION:Surya Sadhna Sthali\, Jhinjholi\, Haryana\, Surya Sadhna Sthali\, Jhinjholi\, Haryana\, India
CATEGORIES:General Yoga Camp
ATTACH;FMTTYPE=image/jpeg:https://dhakaram.com/wp-content/uploads/Jhinjholi-Haryana-24-Feb-2026.jpg
END:VEVENT
END:VCALENDAR