BEGIN:VCALENDAR
VERSION:2.0
PRODID:-//Yogacharya Dhakaram - ECPv6.15.20//NONSGML v1.0//EN
CALSCALE:GREGORIAN
METHOD:PUBLISH
X-WR-CALNAME:Yogacharya Dhakaram
X-ORIGINAL-URL:https://dhakaram.com
X-WR-CALDESC:Events for Yogacharya Dhakaram
REFRESH-INTERVAL;VALUE=DURATION:PT1H
X-Robots-Tag:noindex
X-PUBLISHED-TTL:PT1H
BEGIN:VTIMEZONE
TZID:Asia/Kolkata
BEGIN:STANDARD
TZOFFSETFROM:+0530
TZOFFSETTO:+0530
TZNAME:IST
DTSTART:20230101T000000
END:STANDARD
END:VTIMEZONE
BEGIN:VEVENT
DTSTART;TZID=Asia/Kolkata:20241003T100000
DTEND;TZID=Asia/Kolkata:20251002T170000
DTSTAMP:20260423T160341
CREATED:20241002T031004Z
LAST-MODIFIED:20241002T031004Z
UID:5492-1727949600-1759424400@dhakaram.com
SUMMARY:Shivshakti Mahayagya
DESCRIPTION:
URL:https://dhakaram.com/event/shivshakti-mahayagya/
LOCATION:Shanti Jeevan\, Bani Park\, Jaipur\, Shree Jangleshwar Mahadev Mandir\, Kanti Chandra Rd\, Kanti Nagar\,Bani Park\, Jaipur\, Rajasthan\, 302016\, India
CATEGORIES:Miscellaneous,Social
ATTACH;FMTTYPE=image/jpeg:https://dhakaram.com/wp-content/uploads/3-Oct-2024.jpg
END:VEVENT
BEGIN:VEVENT
DTSTART;TZID=Asia/Kolkata:20250815T120000
DTEND;TZID=Asia/Kolkata:20250815T170000
DTSTAMP:20260423T160341
CREATED:20250728T021232Z
LAST-MODIFIED:20250728T021232Z
UID:6827-1755259200-1755277200@dhakaram.com
SUMMARY:International Seminar on Yoga & Wellness - 2025
DESCRIPTION:
URL:https://dhakaram.com/event/international-seminar-on-yoga-wellness-2025/
LOCATION:Delhi Medical Association\, Delhi Medical Association\, DMA-House\, Medical Association Rd\, Daryaganj\, New Delhi\, Delhi\, 110002\, India
CATEGORIES:General Yoga Camp,Social
ATTACH;FMTTYPE=image/jpeg:https://dhakaram.com/wp-content/uploads/15-Aug-2025.jpg
END:VEVENT
BEGIN:VEVENT
DTSTART;TZID=Asia/Kolkata:20250821T103000
DTEND;TZID=Asia/Kolkata:20250821T120000
DTSTAMP:20260423T160341
CREATED:20250820T105309Z
LAST-MODIFIED:20250820T105309Z
UID:6905-1755772200-1755777600@dhakaram.com
SUMMARY:Grand Opening\, Suryavansham Verayoga\, Jaipur
DESCRIPTION:
URL:https://dhakaram.com/event/grand-opening-suryavansham-verayoga-jaipur/
LOCATION:Suryavansham Verayoga\, Verayoga\, 3rd floor\, A-4\, Mahalaxmi Nagar Rd\, behind World Trade Park\, D-Block\, Malviya Nagar\, Jaipur\, Rajasthan\, 302017\, India
CATEGORIES:Miscellaneous,Social
ATTACH;FMTTYPE=image/jpeg:https://dhakaram.com/wp-content/uploads/21-Aug-2025.jpg
END:VEVENT
BEGIN:VEVENT
DTSTART;TZID=Asia/Kolkata:20250824T080000
DTEND;TZID=Asia/Kolkata:20250824T170000
DTSTAMP:20260423T160341
CREATED:20250820T110851Z
LAST-MODIFIED:20250820T110901Z
UID:6910-1756022400-1756054800@dhakaram.com
SUMMARY:Yogacharya Dhakaram @ Bhilwara
DESCRIPTION:
URL:https://dhakaram.com/event/yogacharya-dhakaram-bhilwara/
LOCATION:Bhilwara\, Rajasthan\, Bhilwara\, Rajasthan\, 311001\, India
CATEGORIES:Miscellaneous,Social
ATTACH;FMTTYPE=image/jpeg:https://dhakaram.com/wp-content/uploads/Bhilwara_24-Aug-2025_.jpg
ORGANIZER;CN="YogaPeace Sansthan":MAILTO:yogapeacejaipur@gmail.com
END:VEVENT
END:VCALENDAR