BEGIN:VCALENDAR
VERSION:2.0
PRODID:-//Yogacharya Dhakaram - ECPv6.15.20//NONSGML v1.0//EN
CALSCALE:GREGORIAN
METHOD:PUBLISH
X-WR-CALNAME:Yogacharya Dhakaram
X-ORIGINAL-URL:https://dhakaram.com
X-WR-CALDESC:Events for Yogacharya Dhakaram
REFRESH-INTERVAL;VALUE=DURATION:PT1H
X-Robots-Tag:noindex
X-PUBLISHED-TTL:PT1H
BEGIN:VTIMEZONE
TZID:Asia/Kolkata
BEGIN:STANDARD
TZOFFSETFROM:+0530
TZOFFSETTO:+0530
TZNAME:IST
DTSTART:20230101T000000
END:STANDARD
END:VTIMEZONE
BEGIN:VEVENT
DTSTART;TZID=Asia/Kolkata:20241003T100000
DTEND;TZID=Asia/Kolkata:20251002T170000
DTSTAMP:20260422T080558
CREATED:20241002T031004Z
LAST-MODIFIED:20241002T031004Z
UID:5492-1727949600-1759424400@dhakaram.com
SUMMARY:Shivshakti Mahayagya
DESCRIPTION:
URL:https://dhakaram.com/event/shivshakti-mahayagya/
LOCATION:Shanti Jeevan\, Bani Park\, Jaipur\, Shree Jangleshwar Mahadev Mandir\, Kanti Chandra Rd\, Kanti Nagar\,Bani Park\, Jaipur\, Rajasthan\, 302016\, India
CATEGORIES:Miscellaneous,Social
ATTACH;FMTTYPE=image/jpeg:https://dhakaram.com/wp-content/uploads/3-Oct-2024.jpg
END:VEVENT
BEGIN:VEVENT
DTSTART;TZID=Asia/Kolkata:20250907T080000
DTEND;TZID=Asia/Kolkata:20250907T170000
DTSTAMP:20260422T080558
CREATED:20250726T111323Z
LAST-MODIFIED:20250726T111323Z
UID:6820-1757232000-1757264400@dhakaram.com
SUMMARY:Yogacharya Dhakaram @ Chandigarh
DESCRIPTION:
URL:https://dhakaram.com/event/yogacharya-dhakaram-chandigarh/
LOCATION:Chandigarh\, Chandigarh\, 160001\, India
CATEGORIES:Anandam,Social
ATTACH;FMTTYPE=image/jpeg:https://dhakaram.com/wp-content/uploads/Chandigarh_7-Sep-2025.jpg
ORGANIZER;CN="YogaPeace Sansthan":MAILTO:yogapeacejaipur@gmail.com
END:VEVENT
BEGIN:VEVENT
DTSTART;TZID=Asia/Kolkata:20250915T080000
DTEND;TZID=Asia/Kolkata:20250915T170000
DTSTAMP:20260422T080558
CREATED:20250905T103621Z
LAST-MODIFIED:20250910T104645Z
UID:7066-1757923200-1757955600@dhakaram.com
SUMMARY:Golden Book of World Records
DESCRIPTION:
URL:https://dhakaram.com/event/golden-book-of-world-records/
LOCATION:Shri Khushal Das University\, Hanumangarh
CATEGORIES:Miscellaneous,Social
ATTACH;FMTTYPE=image/jpeg:https://dhakaram.com/wp-content/uploads/15-Sep-2025.jpg
ORGANIZER;CN="YogaPeace Sansthan":MAILTO:yogapeacejaipur@gmail.com
END:VEVENT
BEGIN:VEVENT
DTSTART;TZID=Asia/Kolkata:20250922T140000
DTEND;TZID=Asia/Kolkata:20251002T180000
DTSTAMP:20260422T080558
CREATED:20250903T032734Z
LAST-MODIFIED:20250903T052649Z
UID:7027-1758549600-1759428000@dhakaram.com
SUMMARY:एक वर्षीय शिवशक्ति महायज्ञ: पूर्णाहुति महोत्सव व भक्तमाल कथा
DESCRIPTION:🙏 जय गोविन्द देव जी 🙏\nएक वर्षीय शिवशक्ति महायज्ञ\nपूर्णाहुति महोत्सव व भक्तमाल कथा\n\nकथा वाचक\nपूज्य भाईश्री संतोष सागर जी महाराज \n📅 23 सितंबर से 2 अक्टूबर 2025 तक🕑 दोपहर 2:00 बजे से 6:00 बजे तक \n\nविशेष आयोजन – दिव्य एवं भव्य कलश यात्रा\n📅 दिनांक: 22 सितंबर 2025🕔 शाम 5:00 बजे📍 लवाजमे के साथ राज कुटीर से कथा स्थल तक \n\nकार्यक्रम स्थल\nशांति जीवन\, 27/A/3 कान्तिचंद रोड\, बलीपार्क\,जंगलेश्वर महादेव मंदिर के पास\, जयपुर (राजस्थान) \n\nआयोजक मंडल\n\n\nसयोजक – ओंकार सेवा संस्थान चैरिटेबल ट्रस्ट\, जयपुर \n\n\nआयोजक – समस्त सनातनी देवी उपासक साधक भक्त \n\n\n\nसंपर्क सूत्र\n📞 94138 22018\, 7790981722 \n\nसंरक्षक\nयोगाचार्य ढाका रामसंस्थापक – योगापीस संस्थान
URL:https://dhakaram.com/event/ek-varshiya-shivshakti-mahayagya-purnahuti-mahotsav-bhaktamal-katha/
LOCATION:Shanti Jeevan\, Bani Park\, Jaipur\, Shree Jangleshwar Mahadev Mandir\, Kanti Chandra Rd\, Kanti Nagar\,Bani Park\, Jaipur\, Rajasthan\, 302016\, India
CATEGORIES:Miscellaneous,Social
ATTACH;FMTTYPE=image/jpeg:https://dhakaram.com/wp-content/uploads/Havan-4.2-scaled.jpg
END:VEVENT
BEGIN:VEVENT
DTSTART;TZID=Asia/Kolkata:20250926T180000
DTEND;TZID=Asia/Kolkata:20250926T220000
DTSTAMP:20260422T080558
CREATED:20250923T025858Z
LAST-MODIFIED:20250923T025858Z
UID:7309-1758909600-1758924000@dhakaram.com
SUMMARY:Navras Garba Utsav
DESCRIPTION:
URL:https://dhakaram.com/event/navras-garba-utsav/
LOCATION:Samurai Peacock Garden\, Ajmer Rd\, Purani Chungi\, Panchsheel Colony\, Nirmohi Nagar\, Jaipur\, Rajasthan\, 302019\, India
CATEGORIES:Miscellaneous,Social
ATTACH;FMTTYPE=image/jpeg:https://dhakaram.com/wp-content/uploads/26-Sep-2025.jpg
END:VEVENT
BEGIN:VEVENT
DTSTART;TZID=Asia/Kolkata:20250927T180000
DTEND;TZID=Asia/Kolkata:20250927T223000
DTSTAMP:20260422T080558
CREATED:20250930T024924Z
LAST-MODIFIED:20251210T083144Z
UID:7345-1758996000-1759012200@dhakaram.com
SUMMARY:Rang Rajasthan Dandiya Nights 2025
DESCRIPTION:
URL:https://dhakaram.com/event/rang-rajasthan-dandiya-nights-2025/
LOCATION:Mama Petrol Pump\, Sirsi Road\, Jaipur\, Mama Filling Station\, Sirsi Rd\, Kanakpura\, Jaipur\, Rajasthan\, 302041\, India
CATEGORIES:Miscellaneous,Social
ATTACH;FMTTYPE=image/jpeg:https://dhakaram.com/wp-content/uploads/27-Sep_01-Oct-2025.jpg
END:VEVENT
BEGIN:VEVENT
DTSTART;TZID=Asia/Kolkata:20250927T200000
DTEND;TZID=Asia/Kolkata:20250927T230000
DTSTAMP:20260422T080558
CREATED:20250926T081821Z
LAST-MODIFIED:20250926T081821Z
UID:7328-1759003200-1759014000@dhakaram.com
SUMMARY:Florian Dandia Night 2025
DESCRIPTION:
URL:https://dhakaram.com/event/florian-dandia-night-2025/
LOCATION:Florian Club\, Jaipur\, Florian Club\, Landmark - Pari circle\, Kalwar Rd\, Sushant City - I\, Jaipur\, Rajasthan\, 303706\, India
CATEGORIES:Miscellaneous,Social
ATTACH;FMTTYPE=image/jpeg:https://dhakaram.com/wp-content/uploads/27-Sep-2025_Dandiya.jpg
END:VEVENT
BEGIN:VEVENT
DTSTART;TZID=Asia/Kolkata:20250928T063000
DTEND;TZID=Asia/Kolkata:20250928T220000
DTSTAMP:20260422T080558
CREATED:20250911T022641Z
LAST-MODIFIED:20250911T022641Z
UID:7075-1759041000-1759096800@dhakaram.com
SUMMARY:Global Happiness Festival\, 2025
DESCRIPTION:
URL:https://dhakaram.com/event/global-happiness-festival-2025/
LOCATION:Hotel Clarks Amer\, Jaipur\, Clarks Amer Hotel\, Jawahar Lal Nehru Marg\, opposite FORTIS ESCORTS HOSPITAL\, Lal Bahadur Nagar\, Chandrakala Colony\, Durgapura\, Jaipur\, Rajasthan\, 302018\, India
CATEGORIES:Miscellaneous,Social
ATTACH;FMTTYPE=image/jpeg:https://dhakaram.com/wp-content/uploads/28-Sep-2025.jpg
END:VEVENT
END:VCALENDAR