BEGIN:VCALENDAR
VERSION:2.0
PRODID:-//Yogacharya Dhakaram - ECPv6.15.20//NONSGML v1.0//EN
CALSCALE:GREGORIAN
METHOD:PUBLISH
X-ORIGINAL-URL:https://dhakaram.com
X-WR-CALDESC:Events for Yogacharya Dhakaram
REFRESH-INTERVAL;VALUE=DURATION:PT1H
X-Robots-Tag:noindex
X-PUBLISHED-TTL:PT1H
BEGIN:VTIMEZONE
TZID:Asia/Kolkata
BEGIN:STANDARD
TZOFFSETFROM:+0530
TZOFFSETTO:+0530
TZNAME:IST
DTSTART:20230101T000000
END:STANDARD
END:VTIMEZONE
BEGIN:VEVENT
DTSTART;TZID=Asia/Kolkata:20241003T100000
DTEND;TZID=Asia/Kolkata:20251002T170000
DTSTAMP:20260421T152311
CREATED:20241002T031004Z
LAST-MODIFIED:20241002T031004Z
UID:5492-1727949600-1759424400@dhakaram.com
SUMMARY:Shivshakti Mahayagya
DESCRIPTION:
URL:https://dhakaram.com/event/shivshakti-mahayagya/
LOCATION:Shanti Jeevan\, Bani Park\, Jaipur\, Shree Jangleshwar Mahadev Mandir\, Kanti Chandra Rd\, Kanti Nagar\,Bani Park\, Jaipur\, Rajasthan\, 302016\, India
CATEGORIES:Miscellaneous,Social
ATTACH;FMTTYPE=image/jpeg:https://dhakaram.com/wp-content/uploads/3-Oct-2024.jpg
END:VEVENT
BEGIN:VEVENT
DTSTART;TZID=Asia/Kolkata:20250922T140000
DTEND;TZID=Asia/Kolkata:20251002T180000
DTSTAMP:20260421T152311
CREATED:20250903T032734Z
LAST-MODIFIED:20250903T052649Z
UID:7027-1758549600-1759428000@dhakaram.com
SUMMARY:एक वर्षीय शिवशक्ति महायज्ञ: पूर्णाहुति महोत्सव व भक्तमाल कथा
DESCRIPTION:🙏 जय गोविन्द देव जी 🙏\nएक वर्षीय शिवशक्ति महायज्ञ\nपूर्णाहुति महोत्सव व भक्तमाल कथा\n\nकथा वाचक\nपूज्य भाईश्री संतोष सागर जी महाराज \n📅 23 सितंबर से 2 अक्टूबर 2025 तक🕑 दोपहर 2:00 बजे से 6:00 बजे तक \n\nविशेष आयोजन – दिव्य एवं भव्य कलश यात्रा\n📅 दिनांक: 22 सितंबर 2025🕔 शाम 5:00 बजे📍 लवाजमे के साथ राज कुटीर से कथा स्थल तक \n\nकार्यक्रम स्थल\nशांति जीवन\, 27/A/3 कान्तिचंद रोड\, बलीपार्क\,जंगलेश्वर महादेव मंदिर के पास\, जयपुर (राजस्थान) \n\nआयोजक मंडल\n\n\nसयोजक – ओंकार सेवा संस्थान चैरिटेबल ट्रस्ट\, जयपुर \n\n\nआयोजक – समस्त सनातनी देवी उपासक साधक भक्त \n\n\n\nसंपर्क सूत्र\n📞 94138 22018\, 7790981722 \n\nसंरक्षक\nयोगाचार्य ढाका रामसंस्थापक – योगापीस संस्थान
URL:https://dhakaram.com/event/ek-varshiya-shivshakti-mahayagya-purnahuti-mahotsav-bhaktamal-katha/
LOCATION:Shanti Jeevan\, Bani Park\, Jaipur\, Shree Jangleshwar Mahadev Mandir\, Kanti Chandra Rd\, Kanti Nagar\,Bani Park\, Jaipur\, Rajasthan\, 302016\, India
CATEGORIES:Miscellaneous,Social
ATTACH;FMTTYPE=image/jpeg:https://dhakaram.com/wp-content/uploads/Havan-4.2-scaled.jpg
END:VEVENT
BEGIN:VEVENT
DTSTART;TZID=Asia/Kolkata:20251010T200000
DTEND;TZID=Asia/Kolkata:20251010T210000
DTSTAMP:20260421T152311
CREATED:20251010T030944Z
LAST-MODIFIED:20251010T030944Z
UID:7370-1760126400-1760130000@dhakaram.com
SUMMARY:Yog Samvad
DESCRIPTION:
URL:https://dhakaram.com/event/yog-samvad/
LOCATION:Instagram
CATEGORIES:Anandam,Social
ATTACH;FMTTYPE=image/jpeg:https://dhakaram.com/wp-content/uploads/10-Oct-2025.jpg
ORGANIZER;CN="YogaPeace Sansthan":MAILTO:yogapeacejaipur@gmail.com
END:VEVENT
BEGIN:VEVENT
DTSTART;TZID=Asia/Kolkata:20251014T100000
DTEND;TZID=Asia/Kolkata:20251016T223000
DTSTAMP:20260421T152311
CREATED:20251009T101956Z
LAST-MODIFIED:20251009T102044Z
UID:7361-1760436000-1760653800@dhakaram.com
SUMMARY:Udaan 2025 - Women's Cultural Festival
DESCRIPTION:
URL:https://dhakaram.com/event/udaan-2025-womens-cultural-festival/
LOCATION:Mama ki Dhani\, Sirsi Rd\, Jaipur\, Mama ki Dhani\, Sirsi Rd\, Kanakpura\, Jaipur\, Rajasthan\, 302041\, India
CATEGORIES:Social
ATTACH;FMTTYPE=image/jpeg:https://dhakaram.com/wp-content/uploads/14-16-Oct-2025.jpg
END:VEVENT
END:VCALENDAR