BEGIN:VCALENDAR
VERSION:2.0
PRODID:-//Yogacharya Dhakaram - ECPv6.15.20//NONSGML v1.0//EN
CALSCALE:GREGORIAN
METHOD:PUBLISH
X-ORIGINAL-URL:https://dhakaram.com
X-WR-CALDESC:Events for Yogacharya Dhakaram
REFRESH-INTERVAL;VALUE=DURATION:PT1H
X-Robots-Tag:noindex
X-PUBLISHED-TTL:PT1H
BEGIN:VTIMEZONE
TZID:Asia/Kolkata
BEGIN:STANDARD
TZOFFSETFROM:+0530
TZOFFSETTO:+0530
TZNAME:IST
DTSTART:20240101T000000
END:STANDARD
END:VTIMEZONE
BEGIN:VEVENT
DTSTART;TZID=Asia/Kolkata:20251102T080000
DTEND;TZID=Asia/Kolkata:20251102T200000
DTSTAMP:20260421T003813
CREATED:20251022T071422Z
LAST-MODIFIED:20251022T071422Z
UID:7460-1762070400-1762113600@dhakaram.com
SUMMARY:Yogacharya Dhakaram in Hyderabad
DESCRIPTION:
URL:https://dhakaram.com/event/yogacharya-dhakaram-in-hyderabad-2/
LOCATION:Hyderabad\, Hyderabad\, Telangana\, 500001\, India
CATEGORIES:Miscellaneous,Social
ATTACH;FMTTYPE=image/jpeg:https://dhakaram.com/wp-content/uploads/Hyderabad_02-Nov-2025.jpg
ORGANIZER;CN="YogaPeace Sansthan":MAILTO:yogapeacejaipur@gmail.com
END:VEVENT
BEGIN:VEVENT
DTSTART;TZID=Asia/Kolkata:20251107T080000
DTEND;TZID=Asia/Kolkata:20251109T170000
DTSTAMP:20260421T003813
CREATED:20251022T073010Z
LAST-MODIFIED:20251022T073010Z
UID:7465-1762502400-1762707600@dhakaram.com
SUMMARY:Yogacharya Dhakaram in Hrishikesh
DESCRIPTION:
URL:https://dhakaram.com/event/yogacharya-dhakaram-in-hrishikesh/
LOCATION:Rishikesh\, Uttrakhand\, Rishikesh\, Uttrakhand\, India
CATEGORIES:Miscellaneous,Social
ATTACH;FMTTYPE=image/jpeg:https://dhakaram.com/wp-content/uploads/Hrishikesh_7-9-Nov-2025.jpg
ORGANIZER;CN="YogaPeace Sansthan":MAILTO:yogapeacejaipur@gmail.com
END:VEVENT
BEGIN:VEVENT
DTSTART;TZID=Asia/Kolkata:20251116T080000
DTEND;TZID=Asia/Kolkata:20251116T170000
DTSTAMP:20260421T003813
CREATED:20250828T110500Z
LAST-MODIFIED:20250828T110500Z
UID:7013-1763280000-1763312400@dhakaram.com
SUMMARY:Vijay Classic 2025
DESCRIPTION:
URL:https://dhakaram.com/event/vijay-classic-2025/
LOCATION:Paradise Green Garden\, Gurugram\, Paradise Green Garden\, 1149\, Carterpuri Rd\, Pocket G\, Sector 1\, Palam Farms\, Gurugram\, Delhi\, 110061\, India
CATEGORIES:Miscellaneous,Social
ATTACH;FMTTYPE=image/jpeg:https://dhakaram.com/wp-content/uploads/16-ov-2025.jpg
END:VEVENT
BEGIN:VEVENT
DTSTART;TZID=Asia/Kolkata:20251116T080000
DTEND;TZID=Asia/Kolkata:20251116T200000
DTSTAMP:20260421T003813
CREATED:20251022T073252Z
LAST-MODIFIED:20251022T073252Z
UID:7469-1763280000-1763323200@dhakaram.com
SUMMARY:Yogacharya Dhakaram in Delhi
DESCRIPTION:
URL:https://dhakaram.com/event/yogacharya-dhakaram-in-delhi-3/
LOCATION:Delhi\, Delhi\, Delhi\, 110001\, India
CATEGORIES:Miscellaneous,Social
ATTACH;FMTTYPE=image/jpeg:https://dhakaram.com/wp-content/uploads/Delhi_16-Nov-2025.jpg
ORGANIZER;CN="YogaPeace Sansthan":MAILTO:yogapeacejaipur@gmail.com
END:VEVENT
BEGIN:VEVENT
DTSTART;TZID=Asia/Kolkata:20251125T080000
DTEND;TZID=Asia/Kolkata:20251125T170000
DTSTAMP:20260421T003813
CREATED:20251124T083548Z
LAST-MODIFIED:20251124T083548Z
UID:7655-1764057600-1764090000@dhakaram.com
SUMMARY:Yogacharya Dhakaram in Jodhpur
DESCRIPTION:
URL:https://dhakaram.com/event/yogacharya-dhakaram-in-jodhpur-3/
LOCATION:Jodhpur\, Jodhpur\, Rajasthan\, 342001\, India
CATEGORIES:Miscellaneous,Social
ATTACH;FMTTYPE=image/jpeg:https://dhakaram.com/wp-content/uploads/Jodhpur_25-Nov-2025.jpg
ORGANIZER;CN="YogaPeace Sansthan":MAILTO:yogapeacejaipur@gmail.com
END:VEVENT
END:VCALENDAR