BEGIN:VCALENDAR
VERSION:2.0
PRODID:-//Yogacharya Dhakaram - ECPv6.15.20//NONSGML v1.0//EN
CALSCALE:GREGORIAN
METHOD:PUBLISH
X-WR-CALNAME:Yogacharya Dhakaram
X-ORIGINAL-URL:https://dhakaram.com
X-WR-CALDESC:Events for Yogacharya Dhakaram
REFRESH-INTERVAL;VALUE=DURATION:PT1H
X-Robots-Tag:noindex
X-PUBLISHED-TTL:PT1H
BEGIN:VTIMEZONE
TZID:Asia/Kolkata
BEGIN:STANDARD
TZOFFSETFROM:+0530
TZOFFSETTO:+0530
TZNAME:IST
DTSTART:20250101T000000
END:STANDARD
END:VTIMEZONE
BEGIN:VEVENT
DTSTART;TZID=Asia/Kolkata:20260112T080000
DTEND;TZID=Asia/Kolkata:20260115T170000
DTSTAMP:20260420T141210
CREATED:20250903T103303Z
LAST-MODIFIED:20251227T114247Z
UID:7051-1768204800-1768496400@dhakaram.com
SUMMARY:Yogacharya Dhakaram in Narayan Ghat\, Chitwan\, Nepal
DESCRIPTION:
URL:https://dhakaram.com/event/yogacharya-dhakaram-in-narayan-ghat-chitwan-nepal/
LOCATION:Narayan Ghat (Narayangarh)\, Chitwan\, Nepal\, Narayan Ghat (Narayangarh)\, Chitwan\, Nepal
CATEGORIES:Miscellaneous,Social
ATTACH;FMTTYPE=image/jpeg:https://dhakaram.com/wp-content/uploads/Narayan-Ghat-Nepal-Jan-2026-1.jpg
ORGANIZER;CN="YogaPeace Sansthan":MAILTO:yogapeacejaipur@gmail.com
END:VEVENT
END:VCALENDAR