BEGIN:VCALENDAR
VERSION:2.0
PRODID:-//Yogacharya Dhakaram - ECPv6.15.20//NONSGML v1.0//EN
CALSCALE:GREGORIAN
METHOD:PUBLISH
X-WR-CALNAME:Yogacharya Dhakaram
X-ORIGINAL-URL:https://dhakaram.com
X-WR-CALDESC:Events for Yogacharya Dhakaram
REFRESH-INTERVAL;VALUE=DURATION:PT1H
X-Robots-Tag:noindex
X-PUBLISHED-TTL:PT1H
BEGIN:VTIMEZONE
TZID:Asia/Kolkata
BEGIN:STANDARD
TZOFFSETFROM:+0530
TZOFFSETTO:+0530
TZNAME:IST
DTSTART:20230101T000000
END:STANDARD
END:VTIMEZONE
BEGIN:VEVENT
DTSTART;TZID=Asia/Kolkata:20241003T100000
DTEND;TZID=Asia/Kolkata:20251002T170000
DTSTAMP:20260425T094855
CREATED:20241002T031004Z
LAST-MODIFIED:20241002T031004Z
UID:5492-1727949600-1759424400@dhakaram.com
SUMMARY:Shivshakti Mahayagya
DESCRIPTION:
URL:https://dhakaram.com/event/shivshakti-mahayagya/
LOCATION:Shanti Jeevan\, Bani Park\, Jaipur\, Shree Jangleshwar Mahadev Mandir\, Kanti Chandra Rd\, Kanti Nagar\,Bani Park\, Jaipur\, Rajasthan\, 302016\, India
CATEGORIES:Miscellaneous,Social
ATTACH;FMTTYPE=image/jpeg:https://dhakaram.com/wp-content/uploads/3-Oct-2024.jpg
END:VEVENT
BEGIN:VEVENT
DTSTART;TZID=Asia/Kolkata:20240314T160000
DTEND;TZID=Asia/Kolkata:20240314T170000
DTSTAMP:20260425T094855
CREATED:20240312T115146Z
LAST-MODIFIED:20240312T115234Z
UID:4912-1710432000-1710435600@dhakaram.com
SUMMARY:Bhakti Yoga with Bhajan Kirtan
DESCRIPTION:Every Thursday evening 4.00 PM to 5.00 PM
URL:https://dhakaram.com/event/bhakti-yoga-with-bhajan-kirtan-2/
LOCATION:YogaPeace Sansthan\, YogaPeace\, Krishna Kripa 1\, Subhash Nagar\, Shastri Nagar\,\, Jaipur\, Rajasthan\, 302016\, India
CATEGORIES:Weekly Events
ATTACH;FMTTYPE=image/jpeg:https://dhakaram.com/wp-content/uploads/Bhajan_2-scaled.jpg
END:VEVENT
BEGIN:VEVENT
DTSTART;TZID=Asia/Kolkata:20240314T160000
DTEND;TZID=Asia/Kolkata:20240314T170000
DTSTAMP:20260425T094855
CREATED:20240312T115146Z
LAST-MODIFIED:20240312T115234Z
UID:4912-1710432000-1710435600@dhakaram.com
SUMMARY:Bhakti Yoga with Bhajan Kirtan
DESCRIPTION:Every Thursday evening 4.00 PM to 5.00 PM
URL:https://dhakaram.com/event/bhakti-yoga-with-bhajan-kirtan-2/
LOCATION:YogaPeace Sansthan\, YogaPeace\, Krishna Kripa 1\, Subhash Nagar\, Shastri Nagar\,\, Jaipur\, Rajasthan\, 302016\, India
CATEGORIES:Weekly Events
ATTACH;FMTTYPE=image/jpeg:https://dhakaram.com/wp-content/uploads/Bhajan_2-scaled.jpg
END:VEVENT
BEGIN:VEVENT
DTSTART;TZID=Asia/Kolkata:20250413T080000
DTEND;TZID=Asia/Kolkata:20250415T170000
DTSTAMP:20260425T094855
CREATED:20250402T044732Z
LAST-MODIFIED:20250402T044732Z
UID:6360-1744531200-1744736400@dhakaram.com
SUMMARY:Yogacharya Dhakaram in Hyderabad
DESCRIPTION:
URL:https://dhakaram.com/event/yogacharya-dhakaram-in-hyderabad/
LOCATION:Hyderabad\, Hyderabad\, Telangana\, 500001\, India
CATEGORIES:Miscellaneous,Social
ATTACH;FMTTYPE=image/jpeg:https://dhakaram.com/wp-content/uploads/Hyderabad_13-15-Apr-2025.jpg
ORGANIZER;CN="YogaPeace Sansthan":MAILTO:yogapeacejaipur@gmail.com
END:VEVENT
BEGIN:VEVENT
DTSTART;TZID=Asia/Kolkata:20250414T115500
DTEND;TZID=Asia/Kolkata:20250414T130000
DTSTAMP:20260425T094855
CREATED:20250409T044858Z
LAST-MODIFIED:20250409T044858Z
UID:6379-1744631700-1744635600@dhakaram.com
SUMMARY:Grand Opening of प्र-Yoga\, Secunderabad\, Telangana
DESCRIPTION:
URL:https://dhakaram.com/event/grand-opening-of-%e0%a4%aa%e0%a5%8d%e0%a4%b0-yoga-secunderabad-telangana/
LOCATION:प्र-Yoga\, Secunderabad\, Telangana\, प्र-Yoga\, 19\, Jawahar Nagar Colony\, PG ROad\, Near Ram Mandir\, Secunderabad\, Telangana\, 500003\, India
CATEGORIES:Miscellaneous,Social
ATTACH;FMTTYPE=image/jpeg:https://dhakaram.com/wp-content/uploads/14-Apr-2025.jpg
END:VEVENT
BEGIN:VEVENT
DTSTART;TZID=Asia/Kolkata:20240314T160000
DTEND;TZID=Asia/Kolkata:20240314T170000
DTSTAMP:20260425T094855
CREATED:20240312T115146Z
LAST-MODIFIED:20240312T115234Z
UID:4912-1710432000-1710435600@dhakaram.com
SUMMARY:Bhakti Yoga with Bhajan Kirtan
DESCRIPTION:Every Thursday evening 4.00 PM to 5.00 PM
URL:https://dhakaram.com/event/bhakti-yoga-with-bhajan-kirtan-2/
LOCATION:YogaPeace Sansthan\, YogaPeace\, Krishna Kripa 1\, Subhash Nagar\, Shastri Nagar\,\, Jaipur\, Rajasthan\, 302016\, India
CATEGORIES:Weekly Events
ATTACH;FMTTYPE=image/jpeg:https://dhakaram.com/wp-content/uploads/Bhajan_2-scaled.jpg
END:VEVENT
BEGIN:VEVENT
DTSTART;TZID=Asia/Kolkata:20250421T160000
DTEND;TZID=Asia/Kolkata:20250421T180000
DTSTAMP:20260425T094855
CREATED:20250409T122557Z
LAST-MODIFIED:20250409T122557Z
UID:6383-1745251200-1745258400@dhakaram.com
SUMMARY:Flow Yoga Workshop
DESCRIPTION:
URL:https://dhakaram.com/event/flow-yoga-workshop/
LOCATION:YogaPeace Sansthan\, YogaPeace\, Krishna Kripa 1\, Subhash Nagar\, Shastri Nagar\,\, Jaipur\, Rajasthan\, 302016\, India
CATEGORIES:General Yoga Camp
ATTACH;FMTTYPE=image/jpeg:https://dhakaram.com/wp-content/uploads/FLow-Yoga-21-Apr-2025-scaled.jpg
ORGANIZER;CN="YogaPeace Sansthan":MAILTO:yogapeacejaipur@gmail.com
END:VEVENT
BEGIN:VEVENT
DTSTART;TZID=Asia/Kolkata:20240314T160000
DTEND;TZID=Asia/Kolkata:20240314T170000
DTSTAMP:20260425T094855
CREATED:20240312T115146Z
LAST-MODIFIED:20240312T115234Z
UID:4912-1710432000-1710435600@dhakaram.com
SUMMARY:Bhakti Yoga with Bhajan Kirtan
DESCRIPTION:Every Thursday evening 4.00 PM to 5.00 PM
URL:https://dhakaram.com/event/bhakti-yoga-with-bhajan-kirtan-2/
LOCATION:YogaPeace Sansthan\, YogaPeace\, Krishna Kripa 1\, Subhash Nagar\, Shastri Nagar\,\, Jaipur\, Rajasthan\, 302016\, India
CATEGORIES:Weekly Events
ATTACH;FMTTYPE=image/jpeg:https://dhakaram.com/wp-content/uploads/Bhajan_2-scaled.jpg
END:VEVENT
BEGIN:VEVENT
DTSTART;TZID=Asia/Kolkata:20250427T070000
DTEND;TZID=Asia/Kolkata:20250427T090000
DTSTAMP:20260425T094855
CREATED:20250131T113421Z
LAST-MODIFIED:20250423T045703Z
UID:6118-1745737200-1745744400@dhakaram.com
SUMMARY:Yogacharya Dhakaram @ Shri Dungargarh
DESCRIPTION:
URL:https://dhakaram.com/event/yogacharya-dhakaram-shri-dungargarh/
LOCATION:AG Mission International School\, AG Mission International School\, AG Mission School Campus\, N.H.11\, Opposite Jhanwar Bus Stand\, Rainbow Garden Resort\, Bikaner\, Sri Dungargarh\, Rajasthan\, 331803\, India
CATEGORIES:Miscellaneous,Social
ATTACH;FMTTYPE=image/jpeg:https://dhakaram.com/wp-content/uploads/Shri-Dungargarh_27-Apr-2025.jpg
END:VEVENT
END:VCALENDAR